BEGIN:VCALENDAR
VERSION:2.0
PRODID:-//WP EVENT Manager Ical//NONSGML Events //EN
CALSCALE:GREGORIAN

BEGIN:VEVENT

DTSTART:20231029T103000Z
DTEND:20231030T153000Z
LOCATION:Botany Bay Nurseries, Garden Centre & Cafe, Edgioake Lane, Astwood Bank, Redditch
SUMMARY:Spooky Pumpkin Fun at Botany Bay Garden Centre in Redditch
DESCRIPTION:<p>WaHaHa&#8230; Pumpkin Carving is BACK!!! One of our favourite events returns this year. Come along on October 29th and 30th for Pumpkin Carving. We provide the pumpkins and all the tools you need to carve, then we clean up all the mess!! There will lots of opportunities to take scary keepsake photos of the children&#8230;</p>
<p>The post <a href="https://raring2go.co.uk/event/spooky-pumpkin-fun-at-botany-bay-garden-centre-in-redditch/">Spooky Pumpkin Fun at Botany Bay Garden Centre in Redditch</a> appeared first on <a href="https://raring2go.co.uk">Raring2go!</a>.</p>

END:VEVENT
END:VCALENDAR
