BEGIN:VCALENDAR
VERSION:2.0
PRODID:-//WP EVENT Manager Ical//NONSGML Events //EN
CALSCALE:GREGORIAN

BEGIN:VEVENT

DTSTART:20251212T120000Z
DTEND:20251214T190000Z
LOCATION:Guildford Spectrum, Parkway, Guildford
SUMMARY:Snow White on Ice – Guildford Spectrum
DESCRIPTION:<p>Magic mirror on the wall&#8230; Find out who&#8217;s the fairest of them all, with Snow White on ice this Christmas!  Step into the world of icy enchantment this festive season, as Spectrum Ice presents Snow White on Ice! From Friday 12th to Sunday 14th December, prepare to be spellbound by our rising, skating stars. Follow&#8230;</p>
<p>The post <a href="https://raring2go.co.uk/event/snow-white-on-ice-guildford-spectrum/">Snow White on Ice &#8211; Guildford Spectrum</a> appeared first on <a href="https://raring2go.co.uk">Raring2go!</a>.</p>

END:VEVENT
END:VCALENDAR
