BEGIN:VCALENDAR
VERSION:2.0
PRODID:-//WP EVENT Manager Ical//NONSGML Events //EN
CALSCALE:GREGORIAN

BEGIN:VEVENT

DTSTART:20261204T200901Z
DTEND:20270103T200901Z
LOCATION:PLAYHOUSE Whitley Bay, Marine Avenue, Whitley Bay
SUMMARY:Snow White and The Seven Dwarfs, Playhouse Whitley Bay
DESCRIPTION:<p>Date: 4th Dec 2026 &#8211; 3rd Jan 2027 Playhouse legend Steve Walls, and Daniel Mawston, the region&#8217;s favourite Dame, both return for another hilarious adventure! Hit the link and secure your seat today! https://tinyurl.com/yc8d3fs6 Heigh Ho, Heigh Ho it’s off to booking you go… we can’t wait to see you there!</p>
<p>The post <a href="https://raring2go.co.uk/event/snow-white-and-the-seven-dwarfs-5/">Snow White and The Seven Dwarfs, Playhouse Whitley Bay</a> appeared first on <a href="https://raring2go.co.uk">Raring2go!</a>.</p>

END:VEVENT
END:VCALENDAR
