BEGIN:VCALENDAR
VERSION:2.0
PRODID:-//WP EVENT Manager Ical//NONSGML Events //EN
CALSCALE:GREGORIAN

BEGIN:VEVENT

DTSTART:20251204T164247Z
DTEND:20251231T164247Z
LOCATION:Esher Theatre, High Street, Esher
SUMMARY:Sleeping Beauty Pantomime at Esher Theatre
DESCRIPTION:<p>Sleeping Beauty Pantomime at Esher Theatre When the beautiful Princess Aurora is cursed by The Wicked Fairy, she falls under her evil spell, condemned to sleep for a hundred years. Can The Good Fairy, dashing Prince Charming and our hapless dame, defeat the dragon and wake the Princess with true love’s kiss? Written by panto royalty&#8230;</p>
<p>The post <a href="https://raring2go.co.uk/event/sleeping-beauty-pantomime-esher/">Sleeping Beauty Pantomime at Esher Theatre</a> appeared first on <a href="https://raring2go.co.uk">Raring2go!</a>.</p>

END:VEVENT
END:VCALENDAR
