BEGIN:VCALENDAR
VERSION:2.0
PRODID:-//WP EVENT Manager Ical//NONSGML Events //EN
CALSCALE:GREGORIAN

BEGIN:VEVENT

DTSTART:20251025T222733Z
DTEND:20251102T232733Z
LOCATION:Tatton Park, Knutsford
SUMMARY:Skellies and Wellies, Tatton Park
DESCRIPTION:<p>25th October to 2nd November Skellies and Wellies This Halloween, Tatton Park’s award-winning gardens are getting a frightfully fun makeover with the return of the Skellies and Wellies Trail—and it’s bigger and better than ever! Step into 50 acres of autumnal magic where 10 hilarious and haunting skeleton displays are waiting to surprise and delight. Each skeleton scene&#8230;</p>
<p>The post <a href="https://raring2go.co.uk/event/skellies-and-wellies/">Skellies and Wellies, Tatton Park</a> appeared first on <a href="https://raring2go.co.uk">Raring2go!</a>.</p>

END:VEVENT
END:VCALENDAR
