BEGIN:VCALENDAR
VERSION:2.0
PRODID:-//WP EVENT Manager Ical//NONSGML Events //EN
CALSCALE:GREGORIAN

BEGIN:VEVENT

DTSTART:20240711T180000Z
DTEND:20240713T210000Z
LOCATION:Palace Theatre, Redditch
SUMMARY:Singin in the Rain at Redditch Palace Theatre
DESCRIPTION:<p>Let the Palace Youth Theatre take you on a journey back to the glamour of Hollywood during the roaring 20’s. Silent movie star Don Lockwood has it all, a string of hit films and a studio-engineered romance with the most beautiful actress in town. What Don doesn’t know is that the silver screen is about&#8230;</p>
<p>The post <a href="https://raring2go.co.uk/event/singin-in-the-rain-at-redditch-palace-theatre/">Singin in the Rain at Redditch Palace Theatre</a> appeared first on <a href="https://raring2go.co.uk">Raring2go!</a>.</p>

END:VEVENT
END:VCALENDAR
