BEGIN:VCALENDAR
VERSION:2.0
PRODID:-//WP EVENT Manager Ical//NONSGML Events //EN
CALSCALE:GREGORIAN

BEGIN:VEVENT

DTSTART:20250419T090000Z
DTEND:20250419T150000Z
LOCATION:Shoreham Lighthouse and shoreham lifeboat station, Brighton Road, Shoreham-by-Sea
SUMMARY:Shoreham Lifeboat Easter Open Day
DESCRIPTION:<p>Come to our Shoreham Lifeboat Easter Open Day 10am to 4pm with an Easter egg hunt around the station, a chance to go aboard all our weather lifeboat and inshore lifeboat, meet the crew and lots more. All proceeds from the event go to help our dedicated volunteer crews save lives at sea More details&#8230;</p>
<p>The post <a href="https://raring2go.co.uk/event/shoreham-lifeboat-easter-open-day/">Shoreham Lifeboat Easter Open Day</a> appeared first on <a href="https://raring2go.co.uk">Raring2go!</a>.</p>

END:VEVENT
END:VCALENDAR
