BEGIN:VCALENDAR
VERSION:2.0
PRODID:-//WP EVENT Manager Ical//NONSGML Events //EN
CALSCALE:GREGORIAN

BEGIN:VEVENT

DTSTART:20231231T113618Z
DTEND:20240101T113618Z
LOCATION:Trump International Golf Links Aberdeen, Balmedie, Aberdeen
SUMMARY:Scottish Hogmanay Celebration
DESCRIPTION:<p>Celebrate a traditional, Scottish Hogmanay in style at Trump International, Scotland THE SCOTTISH CERTAINLY KNOW HOW TO HOST A NEW YEAR CELEBRATION AND AT TRUMP INTERNATIONAL, SCOTLAND OUR TEAM WILL HELP YOU MARK THE START OF 2024 WITH TRADITION, FUN AND FLAIR. Get the party started with drinks on arrival before sitting down to a&#8230;</p>
<p>The post <a href="https://raring2go.co.uk/event/scottish-hogmanay-celebration/">Scottish Hogmanay Celebration</a> appeared first on <a href="https://raring2go.co.uk">Raring2go!</a>.</p>

END:VEVENT
END:VCALENDAR
