BEGIN:VCALENDAR
VERSION:2.0
PRODID:-//WP EVENT Manager Ical//NONSGML Events //EN
CALSCALE:GREGORIAN

BEGIN:VEVENT

DTSTART:20231212T000000Z
DTEND:20231223T000000Z
LOCATION:Chichester Festival Theatre, Oaklands Way, Chichester
SUMMARY:Santa’s Grotto
DESCRIPTION:<p>We’re elf-static that Father Christmas is coming to Chichester Festival Theatre! We’ve been tinkering away with Master Elves, Tinsel and Beau, for a brand-new family experience. Believers get to go behind-the-scenes at the Elves’ Workshop, where creativity and craft combine to make Christmas magic happen, take an ‘elfie with Father Christmas himself as well as&#8230;</p>
<p>The post <a href="https://raring2go.co.uk/event/santas-grotto/">Santa&#8217;s Grotto</a> appeared first on <a href="https://raring2go.co.uk">Raring2go!</a>.</p>

END:VEVENT
END:VCALENDAR
