BEGIN:VCALENDAR
VERSION:2.0
PRODID:-//WP EVENT Manager Ical//NONSGML Events //EN
CALSCALE:GREGORIAN

BEGIN:VEVENT

DTSTART:20240921T093000Z
DTEND:20240922T153000Z
LOCATION:The Trolleybus Museum, Belton Road, Sandtoft, Doncaster
SUMMARY:Roe Commemorative Weekend
DESCRIPTION:<p>The coachbuilding firm of Charles H Roe based in Leeds was well respected for the design and quality of its bus bodywork. Its products were popular with bus operators, particularly across the north of England but especially in Yorkshire. Roe eventually became part of the ill-fated British Leyland conglomerate and was closed down in 1984&#8230;</p>
<p>The post <a href="https://raring2go.co.uk/event/roe-commemorative-weekend/">Roe Commemorative Weekend</a> appeared first on <a href="https://raring2go.co.uk">Raring2go!</a>.</p>

END:VEVENT
END:VCALENDAR
