BEGIN:VCALENDAR
VERSION:2.0
PRODID:-//WP EVENT Manager Ical//NONSGML Events //EN
CALSCALE:GREGORIAN

BEGIN:VEVENT

DTSTART:20240717T180000Z
DTEND:20240721T203000Z
LOCATION:Brookside Theatre, Eastern Road, Romford
SUMMARY:Roald Dahl’s – Matilda Jr. The Musical
DESCRIPTION:<p>Roald Dahl&#8217;s &#8211; Matilda Jr. The Musical Roald Dahl&#8217;s &#8211; Matilda Jr. The Musical shows that Rebellion is nigh at the Brookside Theatre This March! This show is based upon the much loved Roald Dahl story with music from Tim Minchin.  This is a story of a girl who dreams of a much better life&#8230;</p>
<p>The post <a href="https://raring2go.co.uk/event/roald-dahls-matilda-jr-the-musical/">Roald Dahl&#8217;s &#8211; Matilda Jr. The Musical</a> appeared first on <a href="https://raring2go.co.uk">Raring2go!</a>.</p>

END:VEVENT
END:VCALENDAR
