BEGIN:VCALENDAR
VERSION:2.0
PRODID:-//WP EVENT Manager Ical//NONSGML Events //EN
CALSCALE:GREGORIAN

BEGIN:VEVENT

DTSTART:20251205T163000Z
DTEND:20251220T203000Z
LOCATION:Redditch District
SUMMARY:Redditch Round Table Charity Santa Sleigh locations
DESCRIPTION:<p>Here is the list(on the poster) of all routes they  intend to complete as the Redditch Round Table charity sleigh makes its way around the town this December from the 5th to the 20th. Weeknights start around 5:30, weekends start around 4:30&#8230;&#8230;&#8230;&#8230;&#8230;. Please remember this sleigh is run by volunteers, they do their very best&#8230;</p>
<p>The post <a href="https://raring2go.co.uk/event/redditch-round-table-santas-sleigh-will-be-in-redditch/">Redditch Round Table Charity Santa Sleigh locations</a> appeared first on <a href="https://raring2go.co.uk">Raring2go!</a>.</p>

END:VEVENT
END:VCALENDAR
