BEGIN:VCALENDAR
VERSION:2.0
PRODID:-//WP EVENT Manager Ical//NONSGML Events //EN
CALSCALE:GREGORIAN

BEGIN:VEVENT

DTSTART:20260803T175035Z
DTEND:20260803T175035Z
LOCATION:PLAYHOUSE Whitley Bay, Marine Avenue, Whitley Bay
SUMMARY:Ray Bubbles, Playhouse Whitley Bay
DESCRIPTION:<p>This show promises a whirlwind of excitement and surprises, as Ray uses various gases to craft stunning bubble sculptures, effects and magical displays. Inspired by Ray’s work with schools and science centres across Europe, prepare to be amazed by his performance showcasing bubbles of all shapes and ultimate sizes – including a tornado inside a&#8230;</p>
<p>The post <a href="https://raring2go.co.uk/event/ray-bubbles-playhouse-whitley-bay/">Ray Bubbles, Playhouse Whitley Bay</a> appeared first on <a href="https://raring2go.co.uk">Raring2go!</a>.</p>

END:VEVENT
END:VCALENDAR
