BEGIN:VCALENDAR
VERSION:2.0
PRODID:-//WP EVENT Manager Ical//NONSGML Events //EN
CALSCALE:GREGORIAN

BEGIN:VEVENT

DTSTART:20260729T163708Z
DTEND:20260730T163708Z
LOCATION:PLAYHOUSE Whitley Bay, Marine Avenue, Whitley Bay
SUMMARY:Rapunzel -a Tangle Tale, Playhouse Whitley Bay
DESCRIPTION:<p>Let your hair down &#8211; an adventure awaits! Bursting with catchy songs, high-energy comedy, dazzling visuals and heaps of audience interaction, Rapunzel is a fast, funny and feel-good family show about courage, friendship and following your dreams. Locked away in a tower high above the kingdom, Rapunzel dreams of a life beyond four walls and&#8230;</p>
<p>The post <a href="https://raring2go.co.uk/event/rapunzel-playhouse-whitley-bay/">Rapunzel -a Tangle Tale, Playhouse Whitley Bay</a> appeared first on <a href="https://raring2go.co.uk">Raring2go!</a>.</p>

END:VEVENT
END:VCALENDAR
