BEGIN:VCALENDAR
VERSION:2.0
PRODID:-//WP EVENT Manager Ical//NONSGML Events //EN
CALSCALE:GREGORIAN

BEGIN:VEVENT

DTSTART:20260517T072208Z
DTEND:20260517T072208Z
LOCATION:Stephenson Steam Railway, Middle Engine Lane, Wallsend, North Shields
SUMMARY:Race the Train Fun Run, Stephenson Steam Railway, North Shields
DESCRIPTION:<p>Take on the ultimate challenge at our 3k fun run at Stephenson Steam Railway! The race is a fun run and suitable for families and for runners of all abilities. Board a heritage train at Middle Engine Lane at 11:30am, ride to Percy Main Station, then race the train back to Middle Engine Lane, starting&#8230;</p>
<p>The post <a href="https://raring2go.co.uk/event/race-the-train-stephenson-steam-railway/">Race the Train Fun Run, Stephenson Steam Railway, North Shields</a> appeared first on <a href="https://raring2go.co.uk">Raring2go!</a>.</p>

END:VEVENT
END:VCALENDAR
