BEGIN:VCALENDAR
VERSION:2.0
PRODID:-//WP EVENT Manager Ical//NONSGML Events //EN
CALSCALE:GREGORIAN

BEGIN:VEVENT

DTSTART:20230527T084110Z
DTEND:20231001T084110Z
LOCATION:Compton Verney Art Gallery and Park, Compton Verney
SUMMARY:Quentin Blake: Birds, Beasts and Explorers
DESCRIPTION:<p>An exhibition of the work of Quentin Blake is at Compton Verney this Summer. Sir Quentin Blake (b.1932) is one of the most celebrated illustrators and writers of children’s books working today. Over the course of a career spanning several decades, Blake has illustrated more than 500 books, bringing to life treasured literary characters in&#8230;</p>
<p>The post <a href="https://raring2go.co.uk/event/quentin-blake-birds-beasts-and-explorers/">Quentin Blake: Birds, Beasts and Explorers</a> appeared first on <a href="https://raring2go.co.uk">Raring2go!</a>.</p>

END:VEVENT
END:VCALENDAR
