BEGIN:VCALENDAR
VERSION:2.0
PRODID:-//WP EVENT Manager Ical//NONSGML Events //EN
CALSCALE:GREGORIAN

BEGIN:VEVENT

DTSTART:20251011T222120Z
DTEND:20251031T232120Z
LOCATION:Tatton Park, Knutsford
SUMMARY:Pumpkin Patch at the Farm, Tatton Park
DESCRIPTION:<p>11th, 12th, 18th, 19th, 25th, 26th, 28th, 29th, 30th, 31st October The Pumpkin Patch at the Farm, Tatton Park Autumn is calling—and so is the Tatton Park Pumpkin Patch! Head down to the Farm for a day of seasonal fun where you’ll meet all your favourite farmyard animals before setting off on a hunt for&#8230;</p>
<p>The post <a href="https://raring2go.co.uk/event/pumpkin-picking-tatton-park/">Pumpkin Patch at the Farm, Tatton Park</a> appeared first on <a href="https://raring2go.co.uk">Raring2go!</a>.</p>

END:VEVENT
END:VCALENDAR
