BEGIN:VCALENDAR
VERSION:2.0
PRODID:-//WP EVENT Manager Ical//NONSGML Events //EN
CALSCALE:GREGORIAN

BEGIN:VEVENT

DTSTART:20231123T133249Z
DTEND:20231125T133249Z
LOCATION:Waterside, Waterside, Sale
SUMMARY:Prism: A brand new festival of music and light
DESCRIPTION:<p>Prism &#8211; a new and ambitious winter festival, powered by Waterside Arts, will light up Sale town centre in Trafford from Thursday 23 November to Saturday 25 November. Fusing music, projection, light and performance this three-day festival across the town centre will create magical and thought-provoking experiences for all ages, launching this year’s festive season&#8230;</p>
<p>The post <a href="https://raring2go.co.uk/event/prism-a-brand-new-festival-of-music-and-light/">Prism: A brand new festival of music and light</a> appeared first on <a href="https://raring2go.co.uk">Raring2go!</a>.</p>

END:VEVENT
END:VCALENDAR
