BEGIN:VCALENDAR
VERSION:2.0
PRODID:-//WP EVENT Manager Ical//NONSGML Events //EN
CALSCALE:GREGORIAN

BEGIN:VEVENT

DTSTART:20260330T090724Z
DTEND:20260531T090724Z
LOCATION:Leicester City Centre
SUMMARY:Planet Parade Solar System Trail
DESCRIPTION:<p>30 March &#8211; 31 May 2026 &#124; Free Family Event Explore Leicester like never before with Planet Parade, a free, family-friendly trail bringing the solar system to life across the city centre. Created by around 250 local children working alongside professional artists, this exciting outdoor trail features bold and imaginative planet artworks displayed at venues&#8230;</p>
<p>The post <a href="https://raring2go.co.uk/event/planet-parade-solar-system-trail/">Planet Parade Solar System Trail</a> appeared first on <a href="https://raring2go.co.uk">Raring2go!</a>.</p>

END:VEVENT
END:VCALENDAR
