BEGIN:VCALENDAR
VERSION:2.0
PRODID:-//WP EVENT Manager Ical//NONSGML Events //EN
CALSCALE:GREGORIAN

BEGIN:VEVENT

DTSTART:20250728T080000Z
DTEND:20250828T143000Z
LOCATION:Broadwater School, Summers Road, Godalming
SUMMARY:Pitch Pals- Godalming
DESCRIPTION:<p>Pitch Pals are running more fantastic football camps at Broadwater School, Godalming on 28-30 July, 11-13 Aug and 26-28 Aug. All days run 9am-3.30pm (early drop-off, late pick-up and half-days available). Your child can expect a camp full of fun games, activities and tournaments suitable for all. For children in Reception to Year 5. Book&#8230;</p>
<p>The post <a href="https://raring2go.co.uk/event/pitch-pals-godalming-summer/">Pitch Pals- Godalming</a> appeared first on <a href="https://raring2go.co.uk">Raring2go!</a>.</p>

END:VEVENT
END:VCALENDAR
