BEGIN:VCALENDAR
VERSION:2.0
PRODID:-//WP EVENT Manager Ical//NONSGML Events //EN
CALSCALE:GREGORIAN

BEGIN:VEVENT

DTSTART:20251122T100000Z
DTEND:20260104T150000Z
LOCATION:National Trust - Claremont Landscape Garden, Portsmouth Road, Esher
SUMMARY:A Very Penguin Christmas Trail – Claremont Landscape Garden
DESCRIPTION:<p>A Very Penguin Christmas at Claremont Landscape Garden Saturday 22 November – Sunday 4 January Over the Christmas period Claremont is the perfect place to get together with friends and family, whether it’s a frosty morning stroll or a chance for the kids to burn off some festive energy. This year, families can join enjoy&#8230;</p>
<p>The post <a href="https://raring2go.co.uk/event/penguin-trail-claremont/">A Very Penguin Christmas Trail – Claremont Landscape Garden</a> appeared first on <a href="https://raring2go.co.uk">Raring2go!</a>.</p>

END:VEVENT
END:VCALENDAR
