BEGIN:VCALENDAR
VERSION:2.0
PRODID:-//WP EVENT Manager Ical//NONSGML Events //EN
CALSCALE:GREGORIAN

BEGIN:VEVENT

DTSTART:20231024T090000Z
DTEND:20231026T160000Z
LOCATION:Thompson's Lane, Colden Common, Winchester SO21 1JH
SUMMARY:PAW Patrol are visiting Marwell!
DESCRIPTION:<p>PAW Patrol’s Chase and Skye will be keeping everything in order at Marwell Zoo over October half term during a series of special visits from the canine Adventure Bay heroes. Everyone including members, under threes and carers must prebook a ticket. The pups will be visiting the zoo following the launch of their new “PAW&#8230;</p>
<p>The post <a href="https://raring2go.co.uk/event/paw-patrol-are-visiting-marwell/">PAW Patrol are visiting Marwell!</a> appeared first on <a href="https://raring2go.co.uk">Raring2go!</a>.</p>

END:VEVENT
END:VCALENDAR
