BEGIN:VCALENDAR
VERSION:2.0
PRODID:-//WP EVENT Manager Ical//NONSGML Events //EN
CALSCALE:GREGORIAN

BEGIN:VEVENT

DTSTART:20230722T121738Z
DTEND:20230903T121738Z
LOCATION:Preston Park Museum & Grounds, Yarm Road, Stockton-on-Tees
SUMMARY:Party in the Park at Preston Park Museum
DESCRIPTION:<p>Our 70th birthday celebrations are continuing all summer! Join our Summer Party! 22 Jul &#8211; 3 Sept It’s party time at Preston Park Museum this summer. We can’t wait to continue celebrating our special 70th birthday with you. We’re partying all summer long and everyone is invited so come and join us for arts and crafts,&#8230;</p>
<p>The post <a href="https://raring2go.co.uk/event/party-in-the-park-at-preston-park-museum/">Party in the Park at Preston Park Museum</a> appeared first on <a href="https://raring2go.co.uk">Raring2go!</a>.</p>

END:VEVENT
END:VCALENDAR
