BEGIN:VCALENDAR
VERSION:2.0
PRODID:-//WP EVENT Manager Ical//NONSGML Events //EN
CALSCALE:GREGORIAN

BEGIN:VEVENT

DTSTART:20240330T130000Z
DTEND:20240330T150000Z
LOCATION:Oriental Museum, Elvet Hill Road, South Road, Durham
SUMMARY:Paper Playground
DESCRIPTION:<p>Paper was invented in China. Find out how paper changed our world and make your own paper playground! Explore, learn and create with our programme of FREE family events. Taking inspiration from objects on display across the Oriental Museum&#8216;s galleries, families can get creative all season long. Activities are generally suitable for families with children&#8230;</p>
<p>The post <a href="https://raring2go.co.uk/event/paper-playground/">Paper Playground</a> appeared first on <a href="https://raring2go.co.uk">Raring2go!</a>.</p>

END:VEVENT
END:VCALENDAR
