BEGIN:VCALENDAR
VERSION:2.0
PRODID:-//WP EVENT Manager Ical//NONSGML Events //EN
CALSCALE:GREGORIAN

BEGIN:VEVENT

DTSTART:20250208T153602Z
DTEND:20250302T153602Z
LOCATION:Painshill Park, Portsmouth Road, Cobham
SUMMARY:Painshill Fairy Tale Trail
DESCRIPTION:<p>Painshill Fairy Tale Trail February 8, 2025 – March 2, 2025 10:00 am – 4:00 pm Last entry is at 3pm, the landscape and car park will close at 4pm. Enjoy family fun on an adventure through the landscape to discover some of your favourite fairy tale characters. A trail sheet will be available to&#8230;</p>
<p>The post <a href="https://raring2go.co.uk/event/painshill-fairy-tale-trail/">Painshill Fairy Tale Trail</a> appeared first on <a href="https://raring2go.co.uk">Raring2go!</a>.</p>

END:VEVENT
END:VCALENDAR
