BEGIN:VCALENDAR
VERSION:2.0
PRODID:-//WP EVENT Manager Ical//NONSGML Events //EN
CALSCALE:GREGORIAN

BEGIN:VEVENT

DTSTART:20240810T172709Z
DTEND:20260421T042703Z
LOCATION:Brueton Park, Warwick Road, Brueton Park End, Solihull
SUMMARY:Angela Sprocket’s Pockets – outdoor theatre in Brueton Park, Solihull
DESCRIPTION:<p>Outdoor theatre will be returning to Brueton Park, Solihull this Summer! Angelica Sprocket lives next door. Her overcoat has pockets galore! And you&#8217;ll never guess what&#8217;s in them&#8230;Prepare to be surprised, thrilled and tickled pink by Angelica Sprocket&#8217;s never-ending pockets, and the marvellous things she keeps in them. Filled with Folksy’s touch of live music,&#8230;</p>
<p>The post <a href="https://raring2go.co.uk/event/outdoor-family-theatre-in-solihull/">Angela Sprocket&#8217;s Pockets &#8211; outdoor theatre in Brueton Park, Solihull</a> appeared first on <a href="https://raring2go.co.uk">Raring2go!</a>.</p>

END:VEVENT
END:VCALENDAR
