BEGIN:VCALENDAR
VERSION:2.0
PRODID:-//WP EVENT Manager Ical//NONSGML Events //EN
CALSCALE:GREGORIAN

BEGIN:VEVENT

DTSTART:20240802T180000Z
DTEND:20240802T141313Z
LOCATION:Exbury Gardens & Steam Railway, Exbury, Southampton
SUMMARY:Open Air Theatre at Exbury Gardens: Dr Dolittle
DESCRIPTION:<p>Running time (approx): 1hr 50mins (inc 20 minute interval). Gates open at 6pm, performance starts at 7pm. Suitable for ages 5+ (younger children also welcome!) .Please bring your own picnic blankets or chairs as seating is not provided. Tickets are: Adults £20, Children (3-15) £12, Carers and children under 3 are free.</p>
<p>The post <a href="https://raring2go.co.uk/event/open-air-theatre-at-exbury-gardens-dr-dolittle/">Open Air Theatre at Exbury Gardens: Dr Dolittle</a> appeared first on <a href="https://raring2go.co.uk">Raring2go!</a>.</p>

END:VEVENT
END:VCALENDAR
