BEGIN:VCALENDAR
VERSION:2.0
PRODID:-//WP EVENT Manager Ical//NONSGML Events //EN
CALSCALE:GREGORIAN

BEGIN:VEVENT

DTSTART:20241013T083000Z
DTEND:20241013T110000Z
LOCATION:Frensham Heights School and Nursery, Frensham Heights Road, Rowledge, Farnham
SUMMARY:October Craft Month – Needle Felting Workshop
DESCRIPTION:<p>Come along to our needle felting workshop and discover the magic of wool and needles! We&#8217;ll guide you step-by-step to create your own fluffy masterpiece. No experience needed – just bring your imagination! Takeaway kit and all materials included. Suitable for 12yrs + Needle felting is like sculpting with wool! Imagine turning a fluffy ball&#8230;</p>
<p>The post <a href="https://raring2go.co.uk/event/october-craft-month-needle-felting-workshop/">October Craft Month &#8211; Needle Felting Workshop</a> appeared first on <a href="https://raring2go.co.uk">Raring2go!</a>.</p>

END:VEVENT
END:VCALENDAR
