BEGIN:VCALENDAR
VERSION:2.0
PRODID:-//WP EVENT Manager Ical//NONSGML Events //EN
CALSCALE:GREGORIAN

BEGIN:VEVENT

DTSTART:20250525T125056Z
DTEND:20260420T040544Z
LOCATION:Northumberland
SUMMARY:Northumberland Day Family Activities
DESCRIPTION:<p>🌟 Celebrate Northumberland Day 2025! 📅 Date: Sunday, May 25th, 2025 📍 Where: Across Northumberland Northumberland Day is just around the corner, and it’s time to celebrate the spirit, heritage and beauty of our incredible county! From the rolling hills of the Cheviots to the stunning coastline and historic castles, this is a day to&#8230;</p>
<p>The post <a href="https://raring2go.co.uk/event/northumberland-day-family-activities/">Northumberland Day Family Activities</a> appeared first on <a href="https://raring2go.co.uk">Raring2go!</a>.</p>

END:VEVENT
END:VCALENDAR
