BEGIN:VCALENDAR
VERSION:2.0
PRODID:-//WP EVENT Manager Ical//NONSGML Events //EN
CALSCALE:GREGORIAN

BEGIN:VEVENT

DTSTART:20250719T090000Z
DTEND:20250831T163000Z
LOCATION:Newham Grange Farm, Wykeham Way, Coulby Newham, Middlesbrough
SUMMARY:Newham Grange Farm
DESCRIPTION:<p>So much to see and do… Come and visit our family friendly farm! The perfect family day out at Newham Grange Farm Middlesbrough Meet our animals, play in our junior and toddler play areas and have loads of fun in our adventure play zone at Newham Grange Farm. Take a stroll around our Woodland Walk&#8230;</p>
<p>The post <a href="https://raring2go.co.uk/event/newham-grange-farm/">Newham Grange Farm</a> appeared first on <a href="https://raring2go.co.uk">Raring2go!</a>.</p>

END:VEVENT
END:VCALENDAR
