BEGIN:VCALENDAR
VERSION:2.0
PRODID:-//WP EVENT Manager Ical//NONSGML Events //EN
CALSCALE:GREGORIAN

BEGIN:VEVENT

DTSTART:20241130T100000Z
DTEND:20241130T120000Z
LOCATION:Haybridge High School and Sixth Form, Brake Lane, Hagley, Stourbridge
SUMMARY:Christmas Mum2Mum Nearly New Market
DESCRIPTION:<p>There is a Christmas Mum2Mum Nearly New Market here in Stourbridge this November! So, if you are pregnant, or a savvy mum wanting to kit out your kids in quality brands at a fraction of high street prices come along to Haybridge High School on 30th November between 10am &#8211; 12pm to grab some bargains&#8230;</p>
<p>The post <a href="https://raring2go.co.uk/event/mum2mum-nearly-new-market/">Christmas Mum2Mum Nearly New Market</a> appeared first on <a href="https://raring2go.co.uk">Raring2go!</a>.</p>

END:VEVENT
END:VCALENDAR
