BEGIN:VCALENDAR
VERSION:2.0
PRODID:-//WP EVENT Manager Ical//NONSGML Events //EN
CALSCALE:GREGORIAN

BEGIN:VEVENT

DTSTART:20250118T181516Z
DTEND:20250122T181516Z
LOCATION:The Courtyard, Edgar Street, Hereford
SUMMARY:Mufasa: The Lion King (PG) at The Courtyard
DESCRIPTION:<p>Mufasa: The Lion King (PG) at The Courtyard Simba, having become king of the Pride Lands, is determined for his cub to follow in his paw prints while the origins of his late father Mufasa are explored. Told in flashbacks, the story introduces Mufasa as an orphaned cub, lost and alone until he meets a&#8230;</p>
<p>The post <a href="https://raring2go.co.uk/event/mufasa-the-lion-king-pg-at-the-courtyard/">Mufasa: The Lion King (PG) at The Courtyard</a> appeared first on <a href="https://raring2go.co.uk">Raring2go!</a>.</p>

END:VEVENT
END:VCALENDAR
