BEGIN:VCALENDAR
VERSION:2.0
PRODID:-//WP EVENT Manager Ical//NONSGML Events //EN
CALSCALE:GREGORIAN

BEGIN:VEVENT

DTSTART:20260727T161437Z
DTEND:20260727T161437Z
LOCATION:PLAYHOUSE Whitley Bay, Marine Avenue, Whitley Bay
SUMMARY:Ministry of Science Live, Playhouse Whitley Bay
DESCRIPTION:<p>Join our presenters as they dive deep into the world of science and look at how science shapes the modern world we live in with a few loud bangs along the way! They’ll take an anarchic approach to science communication whilst looking at the scientists, engineers and inventors who have shaped the modern world that&#8230;</p>
<p>The post <a href="https://raring2go.co.uk/event/ministry-of-science-playhouse-whitley-bay/">Ministry of Science Live, Playhouse Whitley Bay</a> appeared first on <a href="https://raring2go.co.uk">Raring2go!</a>.</p>

END:VEVENT
END:VCALENDAR
