BEGIN:VCALENDAR
VERSION:2.0
PRODID:-//WP EVENT Manager Ical//NONSGML Events //EN
CALSCALE:GREGORIAN

BEGIN:VEVENT

DTSTART:20230802T230000Z
DTEND:20230830T230000Z
LOCATION:Wakefield Museum, Mulberry Way, Wakefield
SUMMARY:Mini Moving Stories – Summer Activities
DESCRIPTION:<p>Wakefield Museum is getting ready to move! We are making an exciting new Library &#38; Museum and we want families to be part of it. Join us for an exciting summer full of fun hands-on activities for ages 2 to 5. Enjoy multi-sensory storytelling as we learn all about where we live. 10:30am to 11:30am&#8230;</p>
<p>The post <a href="https://raring2go.co.uk/event/mini-moving-stories-summer-activities/">Mini Moving Stories &#8211; Summer Activities</a> appeared first on <a href="https://raring2go.co.uk">Raring2go!</a>.</p>

END:VEVENT
END:VCALENDAR
