BEGIN:VCALENDAR
VERSION:2.0
PRODID:-//WP EVENT Manager Ical//NONSGML Events //EN
CALSCALE:GREGORIAN

BEGIN:VEVENT

DTSTART:20240212T152546Z
DTEND:20240218T152546Z
LOCATION:Touchwood Solihull, Homer Road, Solihull
SUMMARY:Meet your Super Hero at Touchwood this half term
DESCRIPTION:<p>Escape into an alternate universe with Touchwood this February half term  Touchwood Solihull is hosting a ‘super’ fun augmented reality trail to keep the whole family entertained this February Half Term. From Monday 12th to Sunday 18th February, visitors at Touchwood will have the chance to meet their favourite superheroes, with six Marvel heroes located&#8230;</p>
<p>The post <a href="https://raring2go.co.uk/event/meet-your-super-hero-at-touchwood-this-half-term/">Meet your Super Hero at Touchwood this half term</a> appeared first on <a href="https://raring2go.co.uk">Raring2go!</a>.</p>

END:VEVENT
END:VCALENDAR
