BEGIN:VCALENDAR
VERSION:2.0
PRODID:-//WP EVENT Manager Ical//NONSGML Events //EN
CALSCALE:GREGORIAN

BEGIN:VEVENT

DTSTART:20260526T080000Z
DTEND:20260529T033000Z
LOCATION:Warwick School, Myton Road, Warwick
SUMMARY:May Holiday Action at Warwick School
DESCRIPTION:<p>A trusted Holiday Club which offers exciting courses for children from nursery age right through to 14 years old. At Holiday Action each group enjoys a variety of fun, engaging activities designed especially for their age, so every child can explore what they love and try something new. From swimming and football to art, pottery,&#8230;</p>
<p>The post <a href="https://raring2go.co.uk/event/may-holiday-action/">May Holiday Action at Warwick School</a> appeared first on <a href="https://raring2go.co.uk">Raring2go!</a>.</p>

END:VEVENT
END:VCALENDAR
