BEGIN:VCALENDAR
VERSION:2.0
PRODID:-//WP EVENT Manager Ical//NONSGML Events //EN
CALSCALE:GREGORIAN

BEGIN:VEVENT

DTSTART:20240506T110000Z
DTEND:20240506T160000Z
LOCATION:Headstone Manor and Museum, Pinner View, Harrow
SUMMARY:May Day at the Manor
DESCRIPTION:<p>Join us at Headstone Manor &#38; Museum for a delightful day of family fun at the highly anticipated return of our annual May Day Festival! Experience a whole heap of engaging activities for both children and adults, from live performances to fairground rides and arts and crafts activities. In between the excitement, indulge in a delicious selection of food and drink or explore the&#8230;</p>
<p>The post <a href="https://raring2go.co.uk/event/may-day-at-the-manor/">May Day at the Manor</a> appeared first on <a href="https://raring2go.co.uk">Raring2go!</a>.</p>

END:VEVENT
END:VCALENDAR
