BEGIN:VCALENDAR
VERSION:2.0
PRODID:-//WP EVENT Manager Ical//NONSGML Events //EN
CALSCALE:GREGORIAN

BEGIN:VEVENT

DTSTART:20260502T124316Z
DTEND:20260504T124316Z
LOCATION:
SUMMARY:Family Days Out and Activities This May Bank Holiday
DESCRIPTION:<p>Looking for ways to keep the kids entertained this May bank holiday? Whether you’re after a full day out, a short activity, or something completely free, there’s plenty happening locally to suit every family (and every budget). Here’s a round-up of some of the best family-friendly ideas, from outdoor adventures to indoor fun if the&#8230;</p>
<p>The post <a href="https://raring2go.co.uk/event/may-bank-holiday/">Family Days Out and Activities This May Bank Holiday</a> appeared first on <a href="https://raring2go.co.uk">Raring2go!</a>.</p>

END:VEVENT
END:VCALENDAR
