BEGIN:VCALENDAR
VERSION:2.0
PRODID:-//WP EVENT Manager Ical//NONSGML Events //EN
CALSCALE:GREGORIAN

BEGIN:VEVENT

DTSTART:20240206T150035Z
DTEND:20240214T150035Z
LOCATION:Stourbridge Town Hall, Crown Lane, Stourbridge
SUMMARY:Mary Stevens Hospice, Cinderella
DESCRIPTION:<p>STOURBRIDGE TOWN HALL Tuesday 6 &#8211; Wednesday 14 February 2024 Various times available: 10am, Midday, 2pm, 3pm, 7.15pm, 7.30pm &#8211; depending on which day you are choosing. &#160; Join us for the Godmother of all Pantos &#8211; Cinderella! Starring Amy-Lou, Britain&#8217;s Got Talent Finalist as the fabulous Fairy Godmother and Coronation Street&#8217;s Bruce Jones, aka&#8230;</p>
<p>The post <a href="https://raring2go.co.uk/event/mary-stevens-hospice-cinderella/">Mary Stevens Hospice, Cinderella</a> appeared first on <a href="https://raring2go.co.uk">Raring2go!</a>.</p>

END:VEVENT
END:VCALENDAR
