BEGIN:VCALENDAR
VERSION:2.0
PRODID:-//WP EVENT Manager Ical//NONSGML Events //EN
CALSCALE:GREGORIAN

BEGIN:VEVENT

DTSTART:20231124T130000Z
DTEND:20231231T200000Z
LOCATION:Marwell Zoo, Thompson's Lane, Colden Common, Winchester
SUMMARY:Marwell Zoo’s magical Christmas lights experience returns!
DESCRIPTION:<p>Join Marwell Zoo this winter for the return of their magical Christmas light experience, Glow Marwell. With double the sparkle, this year’s theme is an enchanted nature trail featuring brand new illuminations and immersive displays using more than 500,000 lights in a rainbow of colours. Venture through a 36 metre multicoloured light tunnel, gaze in&#8230;</p>
<p>The post <a href="https://raring2go.co.uk/event/marwell-zoos-magical-christmas-lights-experience-returns/">Marwell Zoo’s magical Christmas lights experience returns!</a> appeared first on <a href="https://raring2go.co.uk">Raring2go!</a>.</p>

END:VEVENT
END:VCALENDAR
