BEGIN:VCALENDAR
VERSION:2.0
PRODID:-//WP EVENT Manager Ical//NONSGML Events //EN
CALSCALE:GREGORIAN

BEGIN:VEVENT

DTSTART:20230310T100000Z
DTEND:20230331T200000Z
LOCATION:Drayton Manor Resort, Drayton Manor Drive, Fazeley, Tamworth
SUMMARY:March of the Dinosaurs at Drayton Manor
DESCRIPTION:<p>The Raptors are on the loose! Venture into the DINOverse on selected dates between 10th – 31st March at Drayton Manor. Be sure to keep your wits about you, as the sneaky Raptors like to keep a close eye on any guests. Venture into the park to see the adorable baby dinos, and train like&#8230;</p>
<p>The post <a href="https://raring2go.co.uk/event/march-of-the-dinosaurs-at-drayton-manor/">March of the Dinosaurs at Drayton Manor</a> appeared first on <a href="https://raring2go.co.uk">Raring2go!</a>.</p>

END:VEVENT
END:VCALENDAR
