BEGIN:VCALENDAR
VERSION:2.0
PRODID:-//WP EVENT Manager Ical//NONSGML Events //EN
CALSCALE:GREGORIAN

BEGIN:VEVENT

DTSTART:20240806T123006Z
DTEND:20240815T123006Z
LOCATION:Lunt Roman Fort, Coventry Road, Baginton, Coventry
SUMMARY:Lunt Roman Fort: Glittering Greaves
DESCRIPTION:<p>For ages 5-12 but all are welcome. All materials are provided. This summer, visitors can spruce up their shins, and craft their own spectacular Roman leg armour! You will also be able to explore this unique reconstructed monument. Take in the view from atop our newly repaired gateway, explore the granary building and take part&#8230;</p>
<p>The post <a href="https://raring2go.co.uk/event/lunt-roman-fort-glittering-greaves/">Lunt Roman Fort: Glittering Greaves</a> appeared first on <a href="https://raring2go.co.uk">Raring2go!</a>.</p>

END:VEVENT
END:VCALENDAR
