BEGIN:VCALENDAR
VERSION:2.0
PRODID:-//WP EVENT Manager Ical//NONSGML Events //EN
CALSCALE:GREGORIAN

BEGIN:VEVENT

DTSTART:20231209T103000Z
DTEND:20231209T153000Z
LOCATION:Pontefract Museum
SUMMARY:Liquorice Santa
DESCRIPTION:<p>Meet Pontefract Museum’s special sweet Santa in his liquorice grotto and receive a Christmas gift! There will be a range of festive fun crafts and activities around the Museum to bring you Christmas cheer. All activities are free, including visiting Santa!</p>
<p>The post <a href="https://raring2go.co.uk/event/liquorice-santa-2/">Liquorice Santa</a> appeared first on <a href="https://raring2go.co.uk">Raring2go!</a>.</p>

END:VEVENT
END:VCALENDAR
