BEGIN:VCALENDAR
VERSION:2.0
PRODID:-//WP EVENT Manager Ical//NONSGML Events //EN
CALSCALE:GREGORIAN

BEGIN:VEVENT

DTSTART:20230127T170000Z
DTEND:20230127T193000Z
LOCATION:Lemur Landings, Poole
SUMMARY:Lemur Landings Family Fun Party
DESCRIPTION:<p>Family Fun Party Session at Lemur Landings. Join us on Friday 27th January 2022 for our Family Fun Party Session. Liven up your weekend with our great new family party session and get rid of those January blues. We have brought in our favourite DJ and Disco for fun and games. Get Up and Groove,&#8230;</p>
<p>The post <a href="https://raring2go.co.uk/event/lemur-landings-family-fun-party/">Lemur Landings Family Fun Party</a> appeared first on <a href="https://raring2go.co.uk">Raring2go!</a>.</p>

END:VEVENT
END:VCALENDAR
