BEGIN:VCALENDAR
VERSION:2.0
PRODID:-//WP EVENT Manager Ical//NONSGML Events //EN
CALSCALE:GREGORIAN

BEGIN:VEVENT

DTSTART:20230729T120124Z
DTEND:20230909T120124Z
LOCATION:Kynren, Bishop Auckland
SUMMARY:Kynren – An Epic Tale of England
DESCRIPTION:<p>Destination North East: Kynren returns for a spectacular summer season Spellbinding live outdoor show Kynren – An Epic Tale of England, returns for a spectacular seven-week run during the summer holidays. The 90-minute extravaganza, which is a breathless dash through 2,000 years of British history, will be performed every Saturday from July 29 until September&#8230;</p>
<p>The post <a href="https://raring2go.co.uk/event/kynren/">Kynren &#8211; An Epic Tale of England</a> appeared first on <a href="https://raring2go.co.uk">Raring2go!</a>.</p>

END:VEVENT
END:VCALENDAR
