BEGIN:VCALENDAR
VERSION:2.0
PRODID:-//WP EVENT Manager Ical//NONSGML Events //EN
CALSCALE:GREGORIAN

BEGIN:VEVENT

DTSTART:20250407T201505Z
DTEND:20250417T201505Z
LOCATION:Various Locations
SUMMARY:KOOSA Kids Holiday Camps – various locations in Surrey and Hampshire!
DESCRIPTION:<p>KOOSA Kids have been running Ofsted registered Holiday Clubs in Berkshire, Hampshire, Richmond &#38; Surrey for nearly 20 years. Their ethos is to offer high quality, affordable holiday club childcare for hardworking parents whilst ensuring your children have as much FUN as possible in the school holidays. Their holiday clubs are open every school holiday&#8230;</p>
<p>The post <a href="https://raring2go.co.uk/event/koosa-kids-holiday-camps/">KOOSA Kids Holiday Camps &#8211; various locations in Surrey and Hampshire!</a> appeared first on <a href="https://raring2go.co.uk">Raring2go!</a>.</p>

END:VEVENT
END:VCALENDAR
