BEGIN:VCALENDAR
VERSION:2.0
PRODID:-//WP EVENT Manager Ical//NONSGML Events //EN
CALSCALE:GREGORIAN

BEGIN:VEVENT

DTSTART:20241230T100000Z
DTEND:20250103T150000Z
LOCATION:King Charles School, Chester Road South, Kidderminster
SUMMARY:Kixx Christmas holiday Football Camp
DESCRIPTION:<p>Kixx is running a Christmas holiday Football Camp this December / January. &#160; Kixx Kidderminster &#38; Stourbridge Christmas Holiday Camps &#38; FREE HAF places &#160; Our Kixx Christmas holiday camps are now ready available to book! Join us for 4 days of football, fun and laughter after Christmas on the 30/31st and 2/3rd Jan. FREE&#8230;</p>
<p>The post <a href="https://raring2go.co.uk/event/kixx-christmas-holiday-football-camp-2/">Kixx Christmas holiday Football Camp</a> appeared first on <a href="https://raring2go.co.uk">Raring2go!</a>.</p>

END:VEVENT
END:VCALENDAR
