BEGIN:VCALENDAR
VERSION:2.0
PRODID:-//WP EVENT Manager Ical//NONSGML Events //EN
CALSCALE:GREGORIAN

BEGIN:VEVENT

DTSTART:20261219T143631Z
DTEND:20261231T143631Z
LOCATION:Live Theatre, Broad Chare, Newcastle upon Tyne
SUMMARY:Where Do All The Kittiwakes Go At Christmas, Live Theatre, Newcastle
DESCRIPTION:<p>Flying back due to Poop-ular demand. Where Do All The Kittiwakes Go At Christmas? Sprinkled with ideas from local schoolchildren, this festive tale will have the whole family squawking with laughter! Ever wondered where all those cheeky seaside birds go when Christmas comes and there aren’t any fish and chips left to steal? Well this&#8230;</p>
<p>The post <a href="https://raring2go.co.uk/event/kittiwakes-christmas-live-theatre/">Where Do All The Kittiwakes Go At Christmas, Live Theatre, Newcastle</a> appeared first on <a href="https://raring2go.co.uk">Raring2go!</a>.</p>

END:VEVENT
END:VCALENDAR
