BEGIN:VCALENDAR
VERSION:2.0
PRODID:-//WP EVENT Manager Ical//NONSGML Events //EN
CALSCALE:GREGORIAN

BEGIN:VEVENT

DTSTART:20240809T100000Z
DTEND:20240809T120000Z
LOCATION:Worthing Museum & Gallery, Chapel Road, Worthing
SUMMARY:Kids workshop Lost in Parys
DESCRIPTION:<p>Kids workshop Lost in Parys This summer holiday children aged 8 &#8211; 12 are invited to explore the medium of mouth and foot painting with artist Alison Lapper Book your place here For more events at the Museum click here  Click here for our directory of what&#8217;s on for you this summer</p>
<p>The post <a href="https://raring2go.co.uk/event/kids-workshop-lost-in-parys/">Kids workshop Lost in Parys</a> appeared first on <a href="https://raring2go.co.uk">Raring2go!</a>.</p>

END:VEVENT
END:VCALENDAR
