BEGIN:VCALENDAR
VERSION:2.0
PRODID:-//WP EVENT Manager Ical//NONSGML Events //EN
CALSCALE:GREGORIAN

BEGIN:VEVENT

DTSTART:20260528T105011Z
DTEND:20260528T105011Z
LOCATION:The Lowry, The Quays, Salford
SUMMARY:Olaf Falafel’s Stupidest Super Stupid Show
DESCRIPTION:<p>Olaf Falafel’s Stupidest Super Stupid Show, Lowry Thu 28 May After a sell out run at this year’s Edinburgh Fringe, award-winning comedian and children&#8217;s author Olaf Falafel is dishing up another frying pan full of family-friendly comedy. The comedy show comedians take their kids to is back and even funnier! Join Olaf Falafel (if that&#8230;</p>
<p>The post <a href="https://raring2go.co.uk/event/kaboom-lowry/">Olaf Falafel’s Stupidest Super Stupid Show</a> appeared first on <a href="https://raring2go.co.uk">Raring2go!</a>.</p>

END:VEVENT
END:VCALENDAR
